BEGIN:VCALENDAR
VERSION:2.0
PRODID:-//ChamberMaster//Event Calendar 2.0//EN
METHOD:PUBLISH
X-PUBLISHED-TTL:P1H
REFRESH-INTERVAL:P1H
CALSCALE:GREGORIAN
BEGIN:VTIMEZONE
TZID:America/New_York
BEGIN:DAYLIGHT
RRULE:FREQ=YEARLY;BYMONTH=3;BYDAY=2SU
DTSTART:20070101T000000
TZOFFSETFROM:-0500
TZOFFSETTO:-0400
TZNAME:Eastern Daylight Time
END:DAYLIGHT
BEGIN:STANDARD
RRULE:FREQ=YEARLY;BYMONTH=11;BYDAY=1SU
DTSTART:20070101T000000
TZOFFSETFROM:-0400
TZOFFSETTO:-0500
TZNAME:Eastern Standard Time
END:STANDARD
END:VTIMEZONE
BEGIN:VEVENT
DTSTART;TZID=America/New_York:20260429T090000
DTEND;TZID=America/New_York:20260429T160000
X-MICROSOFT-CDO-ALLDAYEVENT:FALSE
SUMMARY:AILP Coverage: Personal Auto - PAP
DESCRIPTION:CLASS TOPICS:Eligibility for personal lines vs. commercial linesImportance of personal injury protection\, uninsured motorists coverage\, property damage liability\, optional bodily injury\, underinsured motorist coverage and physical damage coveragesImportant exclusions and problems for each of the coveragesCEs: 7 P&C VT
X-ALT-DESC;FMTTYPE=text/html:<!DOCTYPE html><html><head><title></title></head><body aria-disabled="false"><p style="color: rgb(0\, 0\, 0)\; font-family: Arial\; font-size: medium\; font-style: normal\; font-variant-ligatures: normal\; font-variant-caps: normal\; font-weight: 400\; letter-spacing: normal\; orphans: 2\; text-align: start\; text-indent: 0px\; text-transform: none\; widows: 2\; word-spacing: 0px\; -webkit-text-stroke-width: 0px\; white-space: normal\; text-decoration-thickness: initial\; text-decoration-style: initial\; text-decoration-color: initial\;">CLASS TOPICS:</p><ul fr-original-style="list-style-position: inside\; color: rgb(0\, 0\, 0)\; font-family: Arial\; font-size: medium\; font-style: normal\; font-variant-ligatures: normal\; font-variant-caps: normal\; font-weight: 400\; letter-spacing: normal\; orphans: 2\; text-align: start\; text-indent: 0px\; text-transform: none\; widows: 2\; word-spacing: 0px\; -webkit-text-stroke-width: 0px\; white-space: normal\; text-decoration-thickness: initial\; text-decoration-style: initial\; text-decoration-color: initial\;" style="list-style-position: inside\; color: rgb(0\, 0\, 0)\; font-family: Arial\; font-size: medium\; font-style: normal\; font-variant-ligatures: normal\; font-variant-caps: normal\; font-weight: 400\; letter-spacing: normal\; orphans: 2\; text-align: start\; text-indent: 0px\; text-transform: none\; widows: 2\; word-spacing: 0px\; -webkit-text-stroke-width: 0px\; white-space: normal\; text-decoration-thickness: initial\; text-decoration-style: initial\; text-decoration-color: initial\;"><li>Eligibility for personal lines vs. commercial lines</li><li>Importance of personal injury protection\, uninsured motorists coverage\, property damage liability\, optional bodily injury\, underinsured motorist coverage and physical damage coverages</li><li>Important exclusions and problems for each of the coverages</li></ul><p>CEs: 7 P&amp\;C VT</p></body></html>
LOCATION:
UID:e.1111.1339047
SEQUENCE:3
DTSTAMP:20260421T155641Z
URL:https://viaa.growthzoneapp.com/educalendar26/Details/ailp-coverage-personal-auto-pap-1572497?sourceTypeId=Hub
END:VEVENT
END:VCALENDAR
